BEGIN:VCALENDAR
VERSION:2.0
PRODID:-//wp-events-plugin.com//7.2.3.1//EN
BEGIN:VEVENT
UID:14@university.kiss.ac.in
DTSTART;TZID=Asia/Kolkata;VALUE=DATE:20260110
DTEND;TZID=Asia/Kolkata;VALUE=DATE:20260111
DTSTAMP:20260107T052413Z
URL:https://university.kiss.ac.in/events/one-day-international-seminar-on-
 the-current-status-of-hindi-in-the-global-context-challenges-opportunities
 /
SUMMARY:One Day International Seminar on - "The Current Status of Hindi in 
 the Global Context: Challenges & Opportunities
DESCRIPTION:[fusion_button link="https://university.kiss.ac.in/docs/ConfB/h
 indi2026c1.pdf" enable_hover_text_icon="no" hover_text="" title="" target=
 "_blank" link_attributes="" aria_role_button="0" alignment_medium="" align
 ment_small="" alignment="center" modal="" hide_on_mobile="small-visibility
 \,medium-visibility\,large-visibility" sticky_display="normal\,sticky" cla
 ss="" id="" color="default" button_gradient_top_color_hover="" hue="" satu
 ration="" lightness="" alpha="" button_gradient_top_color="" button_gradie
 nt_bottom_color_hover="" button_gradient_bottom_color="" gradient_start_po
 sition="" gradient_end_position="" gradient_type="" radial_direction="" li
 near_angle="" accent_hover_color="" accent_color="" type="" bevel_color=""
  bevel_color_hover="" border_top="" border_right="" border_bottom="" borde
 r_left="" border_radius_top_left="" border_radius_top_right="" border_radi
 us_bottom_right="" border_radius_bottom_left="" border_hover_color="" bord
 er_color="" size="" padding_top="" padding_right="" padding_bottom="" padd
 ing_left="" fusion_font_family_button_font="" fusion_font_variant_button_f
 ont="" font_size="" line_height="" letter_spacing="" text_transform="" str
 etch="default" margin_top="" margin_right="" margin_bottom="" margin_left=
 "" icon="" hover_icon="" icon_position="left" icon_divider="no" hover_tran
 sition="none" render_logics="" animation_type="" animation_direction="left
 " animation_color="" animation_speed="0.3" animation_delay="0" animation_o
 ffset=""]Conference Brochure[/fusion_button]\n\n&nbsp\;
ATTACH;FMTTYPE=image/jpeg:https://university.kiss.ac.in/wp-content/uploads
 /2026/01/hindi2026b1.jpg
CATEGORIES:International Conference
LOCATION:https://university.kiss.ac.in/contact-us/
END:VEVENT
BEGIN:VTIMEZONE
TZID:Asia/Kolkata
X-LIC-LOCATION:Asia/Kolkata
BEGIN:STANDARD
DTSTART:20250110T000000
TZOFFSETFROM:+0530
TZOFFSETTO:+0530
TZNAME:IST
END:STANDARD
END:VTIMEZONE
END:VCALENDAR