BEGIN:VCALENDAR
VERSION:2.0
PRODID:-//wp-events-plugin.com//7.2.3.1//EN
BEGIN:VEVENT
UID:13@university.kiss.ac.in
DTSTART;TZID=Asia/Kolkata;VALUE=DATE:20260121
DTEND;TZID=Asia/Kolkata;VALUE=DATE:20260124
DTSTAMP:20260108T091106Z
URL:https://university.kiss.ac.in/events/66th-all-india-adult-education-co
 nference/
SUMMARY:66th All India Adult Education Conference
DESCRIPTION:[fusion_button link="https://university.kiss.ac.in/docs/ConfB/6
 6th_IAEA_CB.pdf" enable_hover_text_icon="no" hover_text="" title="" target
 ="_blank" link_attributes="" aria_role_button="0" alignment_medium="" alig
 nment_small="" alignment="center" modal="" hide_on_mobile="small-visibilit
 y\,medium-visibility\,large-visibility" sticky_display="normal\,sticky" cl
 ass="" id="" color="default" button_gradient_top_color_hover="" hue="" sat
 uration="" lightness="" alpha="" button_gradient_top_color="" button_gradi
 ent_bottom_color_hover="" button_gradient_bottom_color="" gradient_start_p
 osition="" gradient_end_position="" gradient_type="" radial_direction="" l
 inear_angle="" accent_hover_color="" accent_color="" type="" bevel_color="
 " bevel_color_hover="" border_top="" border_right="" border_bottom="" bord
 er_left="" border_radius_top_left="" border_radius_top_right="" border_rad
 ius_bottom_right="" border_radius_bottom_left="" border_hover_color="" bor
 der_color="" size="" padding_top="" padding_right="" padding_bottom="" pad
 ding_left="" fusion_font_family_button_font="" fusion_font_variant_button_
 font="" font_size="" line_height="" letter_spacing="" text_transform="" st
 retch="default" margin_top="" margin_right="" margin_bottom="" margin_left
 ="" icon="" hover_icon="" icon_position="left" icon_divider="no" hover_tra
 nsition="none" render_logics="" animation_type="" animation_direction="lef
 t" animation_color="" animation_speed="0.3" animation_delay="0" animation_
 offset=""]Conference Brochure[/fusion_button]\n\n&nbsp\;
ATTACH;FMTTYPE=image/jpeg:https://university.kiss.ac.in/wp-content/uploads
 /2025/12/66th-Conference-Brochure-new-one-scaled.jpg
CATEGORIES:International Conference
LOCATION:https://university.kiss.ac.in/contact-us/
END:VEVENT
BEGIN:VTIMEZONE
TZID:Asia/Kolkata
X-LIC-LOCATION:Asia/Kolkata
BEGIN:STANDARD
DTSTART:20250121T000000
TZOFFSETFROM:+0530
TZOFFSETTO:+0530
TZNAME:IST
END:STANDARD
END:VTIMEZONE
END:VCALENDAR